BEGIN:VCALENDAR
VERSION:2.0
METHOD:PUBLISH
BEGIN:VEVENT
UID:WILD_APRICOT_EVENT_2092761_SESSION_1
DTSTART:20160207T193000Z
DTEND:20160207T233000Z
SUMMARY:WSRA - Sole Use -AM
LOCATION:Kaitoke Range
DESCRIPTION:https://hvnzda.org.nz/event-2092761\n\n    .22 shoot\n  Info: secretary<wbr>@wsra.org.nz\n  \n  \n
DTSTAMP:20260424T122911Z
END:VEVENT
END:VCALENDAR
