BEGIN:VCALENDAR
VERSION:2.0
METHOD:PUBLISH
BEGIN:VEVENT
UID:WILD_APRICOT_EVENT_2092745_SESSION_1
DTSTART:20161112T193000Z
DTEND:20161113T033000Z
SUMMARY:Wellington Service Rifle -All day
LOCATION:Kaitoke
DESCRIPTION:https://hvnzda.org.nz/event-2092745\n\nSole use by WSRA. \n  Go to wsra.org.nz for more information.\n
DTSTAMP:20260424T122951Z
END:VEVENT
END:VCALENDAR
