BEGIN:VCALENDAR
VERSION:2.0
METHOD:PUBLISH
BEGIN:VEVENT
UID:WILD_APRICOT_EVENT_2092741_SESSION_1
DTSTART:20160709T203000Z
DTEND:20160710T043000Z
SUMMARY:Wellington Service Rifle -All day
LOCATION:Kaitoke
DESCRIPTION:https://hvnzda.org.nz/event-2092741\n\nSole use by WSRA. \n  Go to wsra.org.nz for more information.\n
DTSTAMP:20260424T170830Z
END:VEVENT
END:VCALENDAR
