BEGIN:VCALENDAR
VERSION:2.0
METHOD:PUBLISH
BEGIN:VEVENT
UID:WILD_APRICOT_EVENT_2092739_SESSION_1
DTSTART:20160514T203000Z
DTEND:20160515T043000Z
SUMMARY:Wellington Service Rifle -All day
LOCATION:Kaitoke
DESCRIPTION:https://hvnzda.org.nz/event-2092739\n\nSole use by WSRA. \n  Go to wsra.org.nz for more information.\n
DTSTAMP:20260424T114959Z
END:VEVENT
END:VCALENDAR
