BEGIN:VCALENDAR
VERSION:2.0
METHOD:PUBLISH
BEGIN:VEVENT
UID:WILD_APRICOT_EVENT_2092736_SESSION_1
DTSTART:20160116T193000Z
DTEND:20160116T233000Z
SUMMARY:Shooting Course - Morning
LOCATION:kaitoke
DESCRIPTION:https://hvnzda.org.nz/event-2092736\n\nShooting skills course with Wellington Service Rifle Association. Limited to 16. $10 range fee.\n
DTSTAMP:20260424T122815Z
END:VEVENT
END:VCALENDAR
