BEGIN:VCALENDAR
VERSION:2.0
METHOD:PUBLISH
BEGIN:VEVENT
UID:WILD_APRICOT_EVENT_2070008_SESSION_1
DTSTART:20151126T193000Z
DTEND:20151126T233000Z
SUMMARY:Private Booking - AM
LOCATION:kaitoke
DESCRIPTION:https://hvnzda.org.nz/event-2070008\n\nPrivate Booking: 0830 - 1230. No casual use\n\n
DTSTAMP:20260424T114838Z
END:VEVENT
END:VCALENDAR
