BEGIN:VCALENDAR
VERSION:2.0
METHOD:PUBLISH
BEGIN:VEVENT
UID:WILD_APRICOT_EVENT_2057735_SESSION_1
DTSTART:20160120T050000Z
DTEND:20160120T080000Z
SUMMARY:NZDA Hutt Valley Branch Meeting
LOCATION:Kaitoke
DESCRIPTION:https://hvnzda.org.nz/event-2057735\n\nNZDA Hutt Valley Branch Meeting @ Kaitoke Range. Families welcome!\n  \n\n
DTSTAMP:20260424T121151Z
END:VEVENT
END:VCALENDAR
