BEGIN:VCALENDAR
VERSION:2.0
METHOD:PUBLISH
BEGIN:VEVENT
UID:WILD_APRICOT_EVENT_2057383_SESSION_1
DTSTART:20160316T050000Z
DTEND:20160316T070000Z
SUMMARY:Kaitoke Pistol Club summer league 6 - 8 pm
LOCATION:Kaitoke Range
DESCRIPTION:https://hvnzda.org.nz/event-2057383\n\nRange booked for competition\, no casual use available during these times. Open to all B endorsed shooters.
DTSTAMP:20260424T115144Z
END:VEVENT
END:VCALENDAR
