BEGIN:VCALENDAR
VERSION:2.0
METHOD:PUBLISH
BEGIN:VEVENT
UID:WILD_APRICOT_EVENT_2057373_SESSION_1
DTSTART:20160203T050000Z
DTEND:20160203T070000Z
SUMMARY:Kaitoke Pistol Club summer league 6 - 8 pm
LOCATION:Kaitoke Range
DESCRIPTION:https://hvnzda.org.nz/event-2057373\n\nRange booked for competition\, no casual use available during these times. Open to all B endorsed shooters.
DTSTAMP:20260424T134616Z
END:VEVENT
END:VCALENDAR
