BEGIN:VCALENDAR
VERSION:2.0
METHOD:PUBLISH
BEGIN:VEVENT
UID:WILD_APRICOT_EVENT_2042652_SESSION_1
DTSTART:20151112T170000Z
DTEND:20151115T050000Z
SUMMARY:Hunts Course - Hunt Weekend Alternative
LOCATION:TBC depending on weather
DESCRIPTION:https://hvnzda.org.nz/event-2042652\n\nHunts Course - Hunt Weekend (TBC depending on weather)\n\n
DTSTAMP:20260424T121349Z
END:VEVENT
END:VCALENDAR
