BEGIN:VCALENDAR
VERSION:2.0
METHOD:PUBLISH
BEGIN:VEVENT
UID:WILD_APRICOT_EVENT_2042651_SESSION_1
DTSTART:20151105T170000Z
DTEND:20151108T050000Z
SUMMARY:Hunts Course - Hunt Weekend
LOCATION:TBC depending on weather
DESCRIPTION:https://hvnzda.org.nz/event-2042651\n\nHunts Course - Hunt Weekend (TBC depending on weather)\n\n
DTSTAMP:20260424T120137Z
END:VEVENT
END:VCALENDAR
