BEGIN:VCALENDAR
VERSION:2.0
METHOD:PUBLISH
BEGIN:VEVENT
UID:WILD_APRICOT_EVENT_2042650_SESSION_1
DTSTART:20151015T060000Z
DTEND:20151018T020000Z
SUMMARY:Hunts Course - Bush Craft and Navigation
LOCATION:Waikuku Lodge
DESCRIPTION:https://hvnzda.org.nz/event-2042650\n\nHunts Course - Bush Craft and Navigation\n\n
DTSTAMP:20260424T132021Z
END:VEVENT
END:VCALENDAR
