BEGIN:VCALENDAR
VERSION:2.0
METHOD:PUBLISH
BEGIN:VEVENT
UID:WILD_APRICOT_EVENT_2042648_SESSION_1
DTSTART:20150923T060000Z
DTEND:20150923T060000Z
SUMMARY:Hunts Course - Introduction Night
LOCATION:Upper Hutt Gun Shop
DESCRIPTION:https://hvnzda.org.nz/event-2042648\n\nHunts Course - Introduction Night\n\n
DTSTAMP:20260424T120921Z
END:VEVENT
END:VCALENDAR
