BEGIN:VCALENDAR
VERSION:2.0
METHOD:PUBLISH
BEGIN:VEVENT
UID:WILD_APRICOT_EVENT_1996843_SESSION_1
DTSTART:20160112T200000Z
DTEND:20160113T020000Z
SUMMARY:Private booking - 9AM - 3PM
LOCATION:kaitoke
DESCRIPTION:https://hvnzda.org.nz/event-1996843\n\nPrivate booking\, no casual use (0900 - 1500).\n
DTSTAMP:20260424T122852Z
END:VEVENT
END:VCALENDAR
