BEGIN:VCALENDAR
VERSION:2.0
METHOD:PUBLISH
BEGIN:VEVENT
UID:WILD_APRICOT_EVENT_1964111_SESSION_1
DTSTART:20151030T190000Z
DTEND:20151031T040000Z
SUMMARY:HUNTS course (All day)
LOCATION:Kaitoke
DESCRIPTION:https://hvnzda.org.nz/event-1964111\n\nHUNTs course session - No casual use.\n
DTSTAMP:20260424T120028Z
END:VEVENT
END:VCALENDAR
