BEGIN:VCALENDAR
VERSION:2.0
METHOD:PUBLISH
BEGIN:VEVENT
UID:WILD_APRICOT_EVENT_1964110_SESSION_1
DTSTART:20151016T190000Z
DTEND:20151017T040000Z
SUMMARY:HUNTS course (All day)
LOCATION:Kaitoke
DESCRIPTION:https://hvnzda.org.nz/event-1964110\n\nHUNTs course session - No casual use.\n
DTSTAMP:20260424T121253Z
END:VEVENT
END:VCALENDAR
