BEGIN:VCALENDAR
VERSION:2.0
METHOD:PUBLISH
BEGIN:VEVENT
UID:WILD_APRICOT_EVENT_1964108_SESSION_1
DTSTART:20151002T190000Z
DTEND:20151003T040000Z
SUMMARY:HUNTS course (All day)
LOCATION:Kaitoke
DESCRIPTION:https://hvnzda.org.nz/event-1964108\n\nHUNTs course session - No casual use.\n
DTSTAMP:20260424T121323Z
END:VEVENT
END:VCALENDAR
