BEGIN:VCALENDAR
VERSION:2.0
METHOD:PUBLISH
BEGIN:VEVENT
UID:WILD_APRICOT_EVENT_1964107_SESSION_1
DTSTART:20150925T200000Z
DTEND:20150926T050000Z
SUMMARY:HUNTS course (All day)
LOCATION:Kaitoke
DESCRIPTION:https://hvnzda.org.nz/event-1964107\n\nHUNTs course session - No casual use.\n
DTSTAMP:20260424T121339Z
END:VEVENT
END:VCALENDAR
