BEGIN:VCALENDAR
VERSION:2.0
METHOD:PUBLISH
BEGIN:VEVENT
UID:WILD_APRICOT_EVENT_1910549_SESSION_1
DTSTART:20151204T193000Z
DTEND:20151205T033000Z
SUMMARY:Green Mountain Boys Lever Action Shoot
LOCATION:Kaitoke
DESCRIPTION:https://hvnzda.org.nz/event-1910549\n\nThe Green Mountain Boys\n  annual\n  Lever action shoot\n  Hosted by Magnum imports and the Upper Hutt GunShop\n  Call 04 9396184 for details or email wayne@magnumimports.co.nz\n   \n
DTSTAMP:20260424T114643Z
END:VEVENT
END:VCALENDAR
