BEGIN:VCALENDAR
VERSION:2.0
METHOD:PUBLISH
BEGIN:VEVENT
UID:WILD_APRICOT_EVENT_1837766_SESSION_1
DTSTART:20151219T233000Z
DTEND:20151220T033000Z
SUMMARY:Target sports club - Afternoon
LOCATION:Kaitoke Range
DESCRIPTION:https://hvnzda.org.nz/event-1837766\n\nExclusive use of the range by TSCI. (Cowboy action) \n
DTSTAMP:20260424T114949Z
END:VEVENT
END:VCALENDAR
