BEGIN:VCALENDAR
VERSION:2.0
METHOD:PUBLISH
BEGIN:VEVENT
UID:WILD_APRICOT_EVENT_1837765_SESSION_1
DTSTART:20151128T233000Z
DTEND:20151129T033000Z
SUMMARY:Target sports club - Afternoon
LOCATION:Kaitoke Range
DESCRIPTION:https://hvnzda.org.nz/event-1837765\n\nExclusive use of the range by TSCI. (Cowboy action) \n
DTSTAMP:20260424T114819Z
END:VEVENT
END:VCALENDAR
