BEGIN:VCALENDAR
VERSION:2.0
METHOD:PUBLISH
BEGIN:VEVENT
UID:WILD_APRICOT_EVENT_1837744_SESSION_1
DTSTART:20151205T233000Z
DTEND:20151206T033000Z
SUMMARY:NZDA - Afternoon
LOCATION:Kaitoke
DESCRIPTION:https://hvnzda.org.nz/event-1837744\n\nClub shoot\n
DTSTAMP:20260424T133844Z
END:VEVENT
END:VCALENDAR
