BEGIN:VCALENDAR
VERSION:2.0
METHOD:PUBLISH
BEGIN:VEVENT
UID:WILD_APRICOT_EVENT_1837742_SESSION_1
DTSTART:20151107T233000Z
DTEND:20151108T033000Z
SUMMARY:NZDA - Afternoon
LOCATION:Kaitoke
DESCRIPTION:https://hvnzda.org.nz/event-1837742\n\nClub shoot\n
DTSTAMP:20260424T115009Z
END:VEVENT
END:VCALENDAR
