BEGIN:VCALENDAR
VERSION:2.0
METHOD:PUBLISH
BEGIN:VEVENT
UID:WILD_APRICOT_EVENT_1837676_SESSION_1
DTSTART:20151205T193000Z
DTEND:20151205T233000Z
SUMMARY:Kaitoke Pistol Club - Morning
LOCATION:Kaitoke Range
DESCRIPTION:https://hvnzda.org.nz/event-1837676\n\n   Sole use by Kaitoke pistol club.\n
DTSTAMP:20260424T170801Z
END:VEVENT
END:VCALENDAR
