BEGIN:VCALENDAR
VERSION:2.0
METHOD:PUBLISH
BEGIN:VEVENT
UID:WILD_APRICOT_EVENT_1753053_SESSION_1
DTSTART:20141113T170000Z
DTEND:20141116T090000Z
SUMMARY:Hunt Weekend - Backup
LOCATION:Whangamomona\, Taranaki
DESCRIPTION:https://hvnzda.org.nz/event-1753053\n\nHunt backup weekend if weather is bad\n\n
DTSTAMP:20260424T131941Z
END:VEVENT
END:VCALENDAR
