BEGIN:VCALENDAR
VERSION:2.0
METHOD:PUBLISH
BEGIN:VEVENT
UID:WILD_APRICOT_EVENT_1753052_SESSION_1
DTSTART:20141106T170000Z
DTEND:20141109T090000Z
SUMMARY:Hunt Weekend
LOCATION:Whangamomona\, Taranaki
DESCRIPTION:https://hvnzda.org.nz/event-1753052\n\nHunt Weekend\n\n
DTSTAMP:20260424T131921Z
END:VEVENT
END:VCALENDAR
