BEGIN:VCALENDAR
VERSION:2.0
METHOD:PUBLISH
BEGIN:VEVENT
UID:WILD_APRICOT_EVENT_1753051_SESSION_1
DTSTART:20141009T070000Z
DTEND:20141012T020000Z
SUMMARY:Bush Craft Weekend
LOCATION:Waikuku Lodge\, Aorangi Forest Park
DESCRIPTION:https://hvnzda.org.nz/event-1753051\n\nBush Craft\, Navigation\n\n
DTSTAMP:20260424T132058Z
END:VEVENT
END:VCALENDAR
