BEGIN:VCALENDAR
VERSION:2.0
METHOD:PUBLISH
BEGIN:VEVENT
UID:WILD_APRICOT_EVENT_1713456_SESSION_1
DTSTART:20141031T190000Z
DTEND:20141101T040000Z
SUMMARY:Hunting & Bushcraft Course
LOCATION:Kaitoke Range
DESCRIPTION:https://hvnzda.org.nz/event-1713456\n\nRange Day - Trip Planning\n \n \n
DTSTAMP:20260424T120147Z
END:VEVENT
END:VCALENDAR
