BEGIN:VCALENDAR
VERSION:2.0
METHOD:PUBLISH
BEGIN:VEVENT
UID:WILD_APRICOT_EVENT_1713451_SESSION_1
DTSTART:20141017T190000Z
DTEND:20141018T040000Z
SUMMARY:Hunting & Bushcraft Course
LOCATION:Kaitoke Range
DESCRIPTION:https://hvnzda.org.nz/event-1713451\n\nRange Day - Firearms\n \n \n
DTSTAMP:20260424T131516Z
END:VEVENT
END:VCALENDAR
