BEGIN:VCALENDAR
VERSION:2.0
METHOD:PUBLISH
BEGIN:VEVENT
UID:WILD_APRICOT_EVENT_1713448_SESSION_1
DTSTART:20141003T190000Z
DTEND:20141004T040000Z
SUMMARY:Hunting & Bushcraft Course
LOCATION:Kaitoke Range
DESCRIPTION:https://hvnzda.org.nz/event-1713448\n\nRange Day - Firearms and Safety  First Aid\n\n\n \n \n
DTSTAMP:20260424T132001Z
END:VEVENT
END:VCALENDAR
