BEGIN:VCALENDAR
VERSION:2.0
METHOD:PUBLISH
BEGIN:VEVENT
UID:WILD_APRICOT_EVENT_1713446_SESSION_1
DTSTART:20140926T200000Z
DTEND:20140927T050000Z
SUMMARY:Hunting & Bushcraft Course
LOCATION:Kaitoke Range
DESCRIPTION:https://hvnzda.org.nz/event-1713446\n\nRange Day - Firearms Intro and Safety\n \n \n
DTSTAMP:20260424T120119Z
END:VEVENT
END:VCALENDAR
